Package: scpdata Version: 1.19.0 Command: /home/biocbuild/bbs-3.23-bioc/R/bin/R CMD INSTALL scpdata StartedAt: 2025-11-13 10:59:34 -0500 (Thu, 13 Nov 2025) EndedAt: 2025-11-13 11:00:05 -0500 (Thu, 13 Nov 2025) EllapsedTime: 31.5 seconds RetCode: 0 Status: OK