Package: scpdata Version: 1.19.0 Command: /home/biocbuild/bbs-3.23-bioc/R/bin/R CMD check --install=check:scpdata.install-out.txt --library=/home/biocbuild/bbs-3.23-bioc/R/site-library --timings scpdata_1.19.0.tar.gz StartedAt: 2025-11-11 12:59:10 -0500 (Tue, 11 Nov 2025) EndedAt: 2025-11-11 13:10:43 -0500 (Tue, 11 Nov 2025) EllapsedTime: 693.3 seconds RetCode: 0 Status: OK CheckDir: scpdata.Rcheck Warnings: 0