Package: scanMiRData Version: 1.17.0 Command: /home/biocbuild/bbs-3.23-bioc/R/bin/R CMD check --install=check:scanMiRData.install-out.txt --library=/home/biocbuild/bbs-3.23-bioc/R/site-library --timings scanMiRData_1.17.0.tar.gz StartedAt: 2025-11-11 12:58:42 -0500 (Tue, 11 Nov 2025) EndedAt: 2025-11-11 13:00:36 -0500 (Tue, 11 Nov 2025) EllapsedTime: 113.9 seconds RetCode: 0 Status: OK CheckDir: scanMiRData.Rcheck Warnings: 0