Package: scaeData Version: 1.7.0 Command: /home/biocbuild/bbs-3.23-bioc/R/bin/R CMD check --install=check:scaeData.install-out.txt --library=/home/biocbuild/bbs-3.23-bioc/R/site-library --timings scaeData_1.7.0.tar.gz StartedAt: 2025-11-11 12:58:03 -0500 (Tue, 11 Nov 2025) EndedAt: 2025-11-11 13:02:21 -0500 (Tue, 11 Nov 2025) EllapsedTime: 258.0 seconds RetCode: 0 Status: OK CheckDir: scaeData.Rcheck Warnings: 0