Package: scaeData Version: 1.7.0 Command: /home/biocbuild/bbs-3.23-bioc/R/bin/R CMD build --keep-empty-dirs --no-resave-data scaeData StartedAt: 2025-11-11 11:40:27 -0500 (Tue, 11 Nov 2025) EndedAt: 2025-11-11 11:43:23 -0500 (Tue, 11 Nov 2025) EllapsedTime: 176.1 seconds RetCode: 0 Status: OK PackageFile: scaeData_1.7.0.tar.gz PackageFileSize: 300.9 KiB