Package: scTHI.data Version: 1.23.0 Command: /home/biocbuild/bbs-3.23-bioc/R/bin/R CMD INSTALL scTHI.data StartedAt: 2025-11-11 10:55:17 -0500 (Tue, 11 Nov 2025) EndedAt: 2025-11-11 10:55:25 -0500 (Tue, 11 Nov 2025) EllapsedTime: 8.2 seconds RetCode: 0 Status: OK