Package: scTHI.data Version: 1.23.0 Command: /home/biocbuild/bbs-3.23-bioc/R/bin/R CMD check --install=check:scTHI.data.install-out.txt --library=/home/biocbuild/bbs-3.23-bioc/R/site-library --timings scTHI.data_1.23.0.tar.gz StartedAt: 2025-11-20 13:11:31 -0500 (Thu, 20 Nov 2025) EndedAt: 2025-11-20 13:12:18 -0500 (Thu, 20 Nov 2025) EllapsedTime: 46.9 seconds RetCode: 0 Status: OK CheckDir: scTHI.data.Rcheck Warnings: 0