Package: scTHI.data Version: 1.23.0 Maintainer: Michele Ceccarelli MaintainerEmail: m.ceccarelli at gmail.com git_url: https://git.bioconductor.org/packages/scTHI.data git_branch: devel git_last_commit: 463aeca git_last_commit_date: 2025-10-29 10:02:17 -0500 (Wed, 29 Oct 2025)