Package: scRNAseq Version: 2.25.0 Command: /home/biocbuild/bbs-3.23-bioc/R/bin/R CMD INSTALL scRNAseq StartedAt: 2025-11-11 11:00:55 -0500 (Tue, 11 Nov 2025) EndedAt: 2025-11-11 11:01:38 -0500 (Tue, 11 Nov 2025) EllapsedTime: 42.9 seconds RetCode: 0 Status: OK