Package: scRNAseq Version: 2.25.0 Command: /home/biocbuild/bbs-3.23-bioc/R/bin/R CMD check --install=check:scRNAseq.install-out.txt --library=/home/biocbuild/bbs-3.23-bioc/R/site-library --timings scRNAseq_2.25.0.tar.gz StartedAt: 2025-11-13 13:04:44 -0500 (Thu, 13 Nov 2025) EndedAt: 2025-11-13 13:21:08 -0500 (Thu, 13 Nov 2025) EllapsedTime: 983.7 seconds RetCode: 0 Status: OK CheckDir: scRNAseq.Rcheck Warnings: 0