Package: scMultiome Version: 1.11.0 Command: /home/biocbuild/bbs-3.23-bioc/R/bin/R CMD INSTALL scMultiome StartedAt: 2025-11-11 11:02:25 -0500 (Tue, 11 Nov 2025) EndedAt: 2025-11-11 11:02:56 -0500 (Tue, 11 Nov 2025) EllapsedTime: 30.8 seconds RetCode: 0 Status: OK