Package: scMultiome Version: 1.11.0 Command: /home/biocbuild/bbs-3.23-bioc/R/bin/R CMD check --install=check:scMultiome.install-out.txt --library=/home/biocbuild/bbs-3.23-bioc/R/site-library --timings scMultiome_1.11.0.tar.gz StartedAt: 2025-11-11 12:59:06 -0500 (Tue, 11 Nov 2025) EndedAt: 2025-11-11 13:03:37 -0500 (Tue, 11 Nov 2025) EllapsedTime: 270.9 seconds RetCode: 0 Status: OK CheckDir: scMultiome.Rcheck Warnings: 0