Package: sampleClassifierData Version: 1.35.0 Command: /home/biocbuild/bbs-3.23-bioc/R/bin/R CMD INSTALL sampleClassifierData StartedAt: 2025-11-11 10:58:59 -0500 (Tue, 11 Nov 2025) EndedAt: 2025-11-11 10:59:11 -0500 (Tue, 11 Nov 2025) EllapsedTime: 12.7 seconds RetCode: 0 Status: OK