Package: sampleClassifierData Version: 1.35.0 Command: /home/biocbuild/bbs-3.23-bioc/R/bin/R CMD check --install=check:sampleClassifierData.install-out.txt --library=/home/biocbuild/bbs-3.23-bioc/R/site-library --timings sampleClassifierData_1.35.0.tar.gz StartedAt: 2025-11-11 12:57:44 -0500 (Tue, 11 Nov 2025) EndedAt: 2025-11-11 12:59:22 -0500 (Tue, 11 Nov 2025) EllapsedTime: 97.8 seconds RetCode: 0 Status: OK CheckDir: sampleClassifierData.Rcheck Warnings: 0