Package: rheumaticConditionWOLLBOLD Version: 1.49.0 Command: /home/biocbuild/bbs-3.23-bioc/R/bin/R CMD check --install=check:rheumaticConditionWOLLBOLD.install-out.txt --library=/home/biocbuild/bbs-3.23-bioc/R/site-library --timings rheumaticConditionWOLLBOLD_1.49.0.tar.gz StartedAt: 2025-11-11 12:51:55 -0500 (Tue, 11 Nov 2025) EndedAt: 2025-11-11 12:52:14 -0500 (Tue, 11 Nov 2025) EllapsedTime: 19.3 seconds RetCode: 0 Status: OK CheckDir: rheumaticConditionWOLLBOLD.Rcheck Warnings: 0