Package: raerdata Version: 1.9.0 Command: /home/biocbuild/bbs-3.23-bioc/R/bin/R CMD check --install=check:raerdata.install-out.txt --library=/home/biocbuild/bbs-3.23-bioc/R/site-library --timings raerdata_1.9.0.tar.gz StartedAt: 2025-11-13 12:55:57 -0500 (Thu, 13 Nov 2025) EndedAt: 2025-11-13 13:02:16 -0500 (Thu, 13 Nov 2025) EllapsedTime: 379.0 seconds RetCode: 0 Status: OK CheckDir: raerdata.Rcheck Warnings: 0