Package: raerdata Version: 1.9.0 Command: /home/biocbuild/bbs-3.23-bioc/R/bin/R CMD build --keep-empty-dirs --no-resave-data raerdata StartedAt: 2025-11-11 11:37:32 -0500 (Tue, 11 Nov 2025) EndedAt: 2025-11-11 11:39:01 -0500 (Tue, 11 Nov 2025) EllapsedTime: 89.0 seconds RetCode: 0 Status: OK PackageFile: raerdata_1.9.0.tar.gz PackageFileSize: 245.8 KiB