Package: qPLEXdata Version: 1.29.0 Command: /home/biocbuild/bbs-3.23-bioc/R/bin/R CMD build --keep-empty-dirs --no-resave-data qPLEXdata StartedAt: 2025-11-13 11:37:44 -0500 (Thu, 13 Nov 2025) EndedAt: 2025-11-13 11:38:36 -0500 (Thu, 13 Nov 2025) EllapsedTime: 51.9 seconds RetCode: 1 Status: ERROR PackageFile: None PackageFileSize: NA