Package: ptairData Version: 1.19.0 Command: /home/biocbuild/bbs-3.23-bioc/R/bin/R CMD INSTALL ptairData StartedAt: 2025-11-11 10:56:01 -0500 (Tue, 11 Nov 2025) EndedAt: 2025-11-11 10:56:04 -0500 (Tue, 11 Nov 2025) EllapsedTime: 2.3 seconds RetCode: 0 Status: OK