Package: ptairData Version: 1.19.0 Maintainer: camille Roquencourt MaintainerEmail: camille.roquencourt at hotmail.fr git_url: https://git.bioconductor.org/packages/ptairData git_branch: devel git_last_commit: 634124c git_last_commit_date: 2025-10-29 10:03:28 -0500 (Wed, 29 Oct 2025)