Package: prostateCancerVarambally Version: 1.39.0 Command: /home/biocbuild/bbs-3.23-bioc/R/bin/R CMD check --install=check:prostateCancerVarambally.install-out.txt --library=/home/biocbuild/bbs-3.23-bioc/R/site-library --timings prostateCancerVarambally_1.39.0.tar.gz StartedAt: 2025-11-13 12:54:40 -0500 (Thu, 13 Nov 2025) EndedAt: 2025-11-13 12:54:58 -0500 (Thu, 13 Nov 2025) EllapsedTime: 18.0 seconds RetCode: 0 Status: WARNINGS CheckDir: prostateCancerVarambally.Rcheck Warnings: 1