Package: prostateCancerTaylor Version: 1.39.0 Command: /home/biocbuild/bbs-3.23-bioc/R/bin/R CMD INSTALL prostateCancerTaylor StartedAt: 2025-11-13 10:56:07 -0500 (Thu, 13 Nov 2025) EndedAt: 2025-11-13 10:56:16 -0500 (Thu, 13 Nov 2025) EllapsedTime: 9.7 seconds RetCode: 0 Status: OK