Package: prostateCancerStockholm Version: 1.39.0 Command: /home/biocbuild/bbs-3.23-bioc/R/bin/R CMD INSTALL prostateCancerStockholm StartedAt: 2025-11-11 10:56:11 -0500 (Tue, 11 Nov 2025) EndedAt: 2025-11-11 10:56:19 -0500 (Tue, 11 Nov 2025) EllapsedTime: 8.6 seconds RetCode: 0 Status: OK