Package: prostateCancerStockholm Version: 1.39.0 Command: /home/biocbuild/bbs-3.23-bioc/R/bin/R CMD build --keep-empty-dirs --no-resave-data prostateCancerStockholm StartedAt: 2025-11-11 11:36:48 -0500 (Tue, 11 Nov 2025) EndedAt: 2025-11-11 11:36:59 -0500 (Tue, 11 Nov 2025) EllapsedTime: 11.0 seconds RetCode: 0 Status: OK PackageFile: prostateCancerStockholm_1.39.0.tar.gz PackageFileSize: 13.51 MiB