Package: prostateCancerGrasso Version: 1.39.0 Command: /home/biocbuild/bbs-3.23-bioc/R/bin/R CMD INSTALL prostateCancerGrasso StartedAt: 2025-11-11 10:56:28 -0500 (Tue, 11 Nov 2025) EndedAt: 2025-11-11 10:56:36 -0500 (Tue, 11 Nov 2025) EllapsedTime: 7.7 seconds RetCode: 0 Status: OK