Package: preciseTADhub Version: 1.19.0 Command: /home/biocbuild/bbs-3.23-bioc/R/bin/R CMD check --install=check:preciseTADhub.install-out.txt --library=/home/biocbuild/bbs-3.23-bioc/R/site-library --timings preciseTADhub_1.19.0.tar.gz StartedAt: 2025-11-11 12:48:47 -0500 (Tue, 11 Nov 2025) EndedAt: 2025-11-11 12:51:59 -0500 (Tue, 11 Nov 2025) EllapsedTime: 191.8 seconds RetCode: 0 Status: OK CheckDir: preciseTADhub.Rcheck Warnings: 0