Package: preciseTADhub Version: 1.19.0 Command: /home/biocbuild/bbs-3.23-bioc/R/bin/R CMD build --keep-empty-dirs --no-resave-data preciseTADhub StartedAt: 2025-11-11 11:36:13 -0500 (Tue, 11 Nov 2025) EndedAt: 2025-11-11 11:37:45 -0500 (Tue, 11 Nov 2025) EllapsedTime: 91.9 seconds RetCode: 0 Status: OK PackageFile: preciseTADhub_1.19.0.tar.gz PackageFileSize: 228.6 KiB