Package: prebsdata Version: 1.47.0 Command: /home/biocbuild/bbs-3.23-bioc/R/bin/R CMD check --install=check:prebsdata.install-out.txt --library=/home/biocbuild/bbs-3.23-bioc/R/site-library --timings prebsdata_1.47.0.tar.gz StartedAt: 2025-11-11 12:48:32 -0500 (Tue, 11 Nov 2025) EndedAt: 2025-11-11 12:48:49 -0500 (Tue, 11 Nov 2025) EllapsedTime: 17.3 seconds RetCode: 0 Status: OK CheckDir: prebsdata.Rcheck Warnings: 0