Package: plotgardenerData Version: 1.17.0 Command: /home/biocbuild/bbs-3.23-bioc/R/bin/R CMD build --keep-empty-dirs --no-resave-data plotgardenerData StartedAt: 2025-11-11 11:36:09 -0500 (Tue, 11 Nov 2025) EndedAt: 2025-11-11 11:36:14 -0500 (Tue, 11 Nov 2025) EllapsedTime: 4.6 seconds RetCode: 0 Status: OK PackageFile: plotgardenerData_1.17.0.tar.gz PackageFileSize: 2.388 MiB