Package: pepDat Version: 1.31.0 Command: /home/biocbuild/bbs-3.23-bioc/R/bin/R CMD INSTALL pepDat StartedAt: 2025-11-11 11:00:13 -0500 (Tue, 11 Nov 2025) EndedAt: 2025-11-11 11:00:20 -0500 (Tue, 11 Nov 2025) EllapsedTime: 6.7 seconds RetCode: 0 Status: OK