Package: pepDat Version: 1.31.0 Command: /home/biocbuild/bbs-3.23-bioc/R/bin/R CMD check --install=check:pepDat.install-out.txt --library=/home/biocbuild/bbs-3.23-bioc/R/site-library --timings pepDat_1.31.0.tar.gz StartedAt: 2025-11-11 12:47:59 -0500 (Tue, 11 Nov 2025) EndedAt: 2025-11-11 12:48:58 -0500 (Tue, 11 Nov 2025) EllapsedTime: 58.9 seconds RetCode: 0 Status: OK CheckDir: pepDat.Rcheck Warnings: 0