Package: pd.atdschip.tiling Version: 0.49.0 Command: /home/biocbuild/bbs-3.23-bioc/R/bin/R CMD INSTALL pd.atdschip.tiling StartedAt: 2025-11-11 11:00:00 -0500 (Tue, 11 Nov 2025) EndedAt: 2025-11-11 11:00:24 -0500 (Tue, 11 Nov 2025) EllapsedTime: 23.5 seconds RetCode: 0 Status: OK