Package: pd.atdschip.tiling Version: 0.49.0 Command: /home/biocbuild/bbs-3.23-bioc/R/bin/R CMD check --install=check:pd.atdschip.tiling.install-out.txt --library=/home/biocbuild/bbs-3.23-bioc/R/site-library --timings pd.atdschip.tiling_0.49.0.tar.gz StartedAt: 2025-11-11 12:47:59 -0500 (Tue, 11 Nov 2025) EndedAt: 2025-11-11 12:50:26 -0500 (Tue, 11 Nov 2025) EllapsedTime: 146.6 seconds RetCode: 0 Status: WARNINGS CheckDir: pd.atdschip.tiling.Rcheck Warnings: 1