Package: pasillaBamSubset Version: 0.49.0 Command: /home/biocbuild/bbs-3.23-bioc/R/bin/R CMD INSTALL pasillaBamSubset StartedAt: 2025-11-11 10:55:11 -0500 (Tue, 11 Nov 2025) EndedAt: 2025-11-11 10:55:14 -0500 (Tue, 11 Nov 2025) EllapsedTime: 2.1 seconds RetCode: 0 Status: OK