Package: pasilla Version: 1.39.0 Command: /home/biocbuild/bbs-3.23-bioc/R/bin/R CMD INSTALL pasilla StartedAt: 2025-11-11 11:00:49 -0500 (Tue, 11 Nov 2025) EndedAt: 2025-11-11 11:01:20 -0500 (Tue, 11 Nov 2025) EllapsedTime: 31.3 seconds RetCode: 0 Status: OK