Package: orthosData Version: 1.9.0 Command: /home/biocbuild/bbs-3.23-bioc/R/bin/R CMD check --install=check:orthosData.install-out.txt --library=/home/biocbuild/bbs-3.23-bioc/R/site-library --timings orthosData_1.9.0.tar.gz StartedAt: 2025-11-11 12:47:03 -0500 (Tue, 11 Nov 2025) EndedAt: 2025-11-11 12:50:30 -0500 (Tue, 11 Nov 2025) EllapsedTime: 207.1 seconds RetCode: 0 Status: OK CheckDir: orthosData.Rcheck Warnings: 0