Package: orthosData Version: 1.9.0 Command: /home/biocbuild/bbs-3.23-bioc/R/bin/R CMD build --keep-empty-dirs --no-resave-data orthosData StartedAt: 2025-11-11 11:35:12 -0500 (Tue, 11 Nov 2025) EndedAt: 2025-11-11 11:35:54 -0500 (Tue, 11 Nov 2025) EllapsedTime: 42.0 seconds RetCode: 0 Status: OK PackageFile: orthosData_1.9.0.tar.gz PackageFileSize: 311.9 KiB