Package: optimalFlowData Version: 1.23.0 Command: /home/biocbuild/bbs-3.23-bioc/R/bin/R CMD check --install=check:optimalFlowData.install-out.txt --library=/home/biocbuild/bbs-3.23-bioc/R/site-library --timings optimalFlowData_1.23.0.tar.gz StartedAt: 2025-11-11 12:46:49 -0500 (Tue, 11 Nov 2025) EndedAt: 2025-11-11 12:47:52 -0500 (Tue, 11 Nov 2025) EllapsedTime: 63.3 seconds RetCode: 0 Status: WARNINGS CheckDir: optimalFlowData.Rcheck Warnings: 1