Package: octad.db Version: 1.13.0 Command: /home/biocbuild/bbs-3.23-bioc/R/bin/R CMD INSTALL octad.db StartedAt: 2025-11-11 10:57:02 -0500 (Tue, 11 Nov 2025) EndedAt: 2025-11-11 10:57:15 -0500 (Tue, 11 Nov 2025) EllapsedTime: 12.6 seconds RetCode: 0 Status: OK