Package: oct4 Version: 1.27.0 Command: /home/biocbuild/bbs-3.23-bioc/R/bin/R CMD check --install=check:oct4.install-out.txt --library=/home/biocbuild/bbs-3.23-bioc/R/site-library --timings oct4_1.27.0.tar.gz StartedAt: 2025-11-11 12:46:14 -0500 (Tue, 11 Nov 2025) EndedAt: 2025-11-11 12:46:36 -0500 (Tue, 11 Nov 2025) EllapsedTime: 21.3 seconds RetCode: 0 Status: OK CheckDir: oct4.Rcheck Warnings: 0