Package: nullrangesData Version: 1.17.0 Command: /home/biocbuild/bbs-3.23-bioc/R/bin/R CMD check --install=check:nullrangesData.install-out.txt --library=/home/biocbuild/bbs-3.23-bioc/R/site-library --timings nullrangesData_1.17.0.tar.gz StartedAt: 2025-11-11 12:45:34 -0500 (Tue, 11 Nov 2025) EndedAt: 2025-11-11 12:49:15 -0500 (Tue, 11 Nov 2025) EllapsedTime: 220.4 seconds RetCode: 0 Status: OK CheckDir: nullrangesData.Rcheck Warnings: 0