Package: nullrangesData Version: 1.17.0 Command: /home/biocbuild/bbs-3.23-bioc/R/bin/R CMD build --keep-empty-dirs --no-resave-data nullrangesData StartedAt: 2025-11-11 11:34:20 -0500 (Tue, 11 Nov 2025) EndedAt: 2025-11-11 11:35:05 -0500 (Tue, 11 Nov 2025) EllapsedTime: 45.1 seconds RetCode: 0 Status: OK PackageFile: nullrangesData_1.17.0.tar.gz PackageFileSize: 4.148 MiB