Package: mvoutData Version: 1.47.0 Command: /home/biocbuild/bbs-3.23-bioc/R/bin/R CMD build --keep-empty-dirs --no-resave-data mvoutData StartedAt: 2025-11-11 11:33:18 -0500 (Tue, 11 Nov 2025) EndedAt: 2025-11-11 11:33:22 -0500 (Tue, 11 Nov 2025) EllapsedTime: 4.0 seconds RetCode: 0 Status: OK PackageFile: mvoutData_1.47.0.tar.gz PackageFileSize: 14.19 MiB