Package: muscData Version: 1.25.0 Command: /home/biocbuild/bbs-3.23-bioc/R/bin/R CMD INSTALL muscData StartedAt: 2025-11-11 11:00:33 -0500 (Tue, 11 Nov 2025) EndedAt: 2025-11-11 11:00:59 -0500 (Tue, 11 Nov 2025) EllapsedTime: 26.9 seconds RetCode: 0 Status: OK