Package: muscData Version: 1.25.0 Command: /home/biocbuild/bbs-3.23-bioc/R/bin/R CMD build --keep-empty-dirs --no-resave-data muscData StartedAt: 2025-11-11 11:32:54 -0500 (Tue, 11 Nov 2025) EndedAt: 2025-11-11 11:33:44 -0500 (Tue, 11 Nov 2025) EllapsedTime: 50.2 seconds RetCode: 0 Status: OK PackageFile: muscData_1.25.0.tar.gz PackageFileSize: 230.2 KiB