Package: multiWGCNAdata Version: 1.9.0 Command: /home/biocbuild/bbs-3.23-bioc/R/bin/R CMD INSTALL multiWGCNAdata StartedAt: 2025-11-13 10:57:36 -0500 (Thu, 13 Nov 2025) EndedAt: 2025-11-13 10:57:46 -0500 (Thu, 13 Nov 2025) EllapsedTime: 9.2 seconds RetCode: 0 Status: OK