Package: multiWGCNAdata Version: 1.9.0 Command: /home/biocbuild/bbs-3.23-bioc/R/bin/R CMD check --install=check:multiWGCNAdata.install-out.txt --library=/home/biocbuild/bbs-3.23-bioc/R/site-library --timings multiWGCNAdata_1.9.0.tar.gz StartedAt: 2025-11-11 12:43:15 -0500 (Tue, 11 Nov 2025) EndedAt: 2025-11-11 12:44:15 -0500 (Tue, 11 Nov 2025) EllapsedTime: 60.6 seconds RetCode: 0 Status: OK CheckDir: multiWGCNAdata.Rcheck Warnings: 0