Package: muleaData Version: 1.7.0 Command: /home/biocbuild/bbs-3.23-bioc/R/bin/R CMD check --install=check:muleaData.install-out.txt --library=/home/biocbuild/bbs-3.23-bioc/R/site-library --timings muleaData_1.7.0.tar.gz StartedAt: 2025-11-11 12:42:46 -0500 (Tue, 11 Nov 2025) EndedAt: 2025-11-11 12:43:17 -0500 (Tue, 11 Nov 2025) EllapsedTime: 30.3 seconds RetCode: 0 Status: WARNINGS CheckDir: muleaData.Rcheck Warnings: 3