Package: muSpaData Version: 1.3.0 Command: /home/biocbuild/bbs-3.23-bioc/R/bin/R CMD build --keep-empty-dirs --no-resave-data muSpaData StartedAt: 2025-11-13 11:33:21 -0500 (Thu, 13 Nov 2025) EndedAt: 2025-11-13 11:34:36 -0500 (Thu, 13 Nov 2025) EllapsedTime: 75.1 seconds RetCode: 0 Status: OK PackageFile: muSpaData_1.3.0.tar.gz PackageFileSize: 582.8 KiB