Package: mtbls2 Version: 1.41.0 Command: /home/biocbuild/bbs-3.23-bioc/R/bin/R CMD check --install=check:mtbls2.install-out.txt --library=/home/biocbuild/bbs-3.23-bioc/R/site-library --timings mtbls2_1.41.0.tar.gz StartedAt: 2025-11-11 12:42:24 -0500 (Tue, 11 Nov 2025) EndedAt: 2025-11-11 12:46:48 -0500 (Tue, 11 Nov 2025) EllapsedTime: 264.6 seconds RetCode: 0 Status: WARNINGS CheckDir: mtbls2.Rcheck Warnings: 1